BEGIN:VCALENDAR
VERSION:2.0
PRODID:-//Contratero//ES
CALSCALE:GREGORIAN
METHOD:PUBLISH
BEGIN:VEVENT
UID:DGTAD 08/23@contratero.es
DTSTAMP:20260423T000657Z
DTSTART:20231102T235959
DTEND:20231103T005959
SUMMARY:Cierre: Renovación de los derechos de uso y soporte de las
DESCRIPTION:Renovación de los derechos de uso y soporte de las licencias de servidor del entorno principal de autenticación corporativa y ejecución de aplicaciones.\\n\\nOrganismo: Consejería de Movilidad y Transformación Digital\\n\\nVer en Contratero: https://contratero.es/contracts/DGTAD 08/23
URL:https://contratero.es/contracts/DGTAD 08/23
STATUS:CONFIRMED
BEGIN:VALARM
TRIGGER:-P1D
ACTION:DISPLAY
DESCRIPTION:Recordatorio: Renovación de los derechos de 
END:VALARM
END:VEVENT
END:VCALENDAR